BEGIN:VCALENDAR
VERSION:2.0
PRODID:gruene-bergedorf.de
METHOD:PUBLISH
BEGIN:VTIMEZONE
TZID:Europe/Berlin
X-LIC-LOCATION:Europe/Berlin
BEGIN:DAYLIGHT
TZOFFSETFROM:+0100
TZOFFSETTO:+0200
TZNAME:CEST
DTSTART:19700329T020000
RRULE:FREQ=YEARLY;INTERVAL=1;BYDAY=-1SU;BYMONTH=3
END:DAYLIGHT
BEGIN:STANDARD
TZOFFSETFROM:+0200
TZOFFSETTO:+0100
TZNAME:CET
DTSTART:19701025T030000
RRULE:FREQ=YEARLY;INTERVAL=1;BYDAY=-1SU;BYMONTH=10
END:STANDARD
END:VTIMEZONE
BEGIN:VEVENT
UID:4ce19836d38608127da7279ea9d8538a@gruene-bergedorf.de
URL;VALUE=URI:https://gruene-bergedorf.de/index.php/termine/vielfaltskong
 ress/
LOCATION:KörberHaus
SUMMARY:Vielfaltskongreß
DESCRIPTION;ALTREP="data:text/html,%3Cp%3E%3C%2Fp%3E":
CLASS:PUBLIC
DTSTART;TZID=Europe/Berlin:20260926T100000
DTEND;TZID=Europe/Berlin:20260926T170000
DTSTAMP:20260421T221028
END:VEVENT
END:VCALENDAR