BEGIN:VCALENDAR
VERSION:2.0
PRODID:gruene-bergedorf.de
METHOD:PUBLISH
BEGIN:VTIMEZONE
TZID:Europe/Berlin
X-LIC-LOCATION:Europe/Berlin
BEGIN:DAYLIGHT
TZOFFSETFROM:+0100
TZOFFSETTO:+0200
TZNAME:CEST
DTSTART:19700329T020000
RRULE:FREQ=YEARLY;INTERVAL=1;BYDAY=-1SU;BYMONTH=3
END:DAYLIGHT
BEGIN:STANDARD
TZOFFSETFROM:+0200
TZOFFSETTO:+0100
TZNAME:CET
DTSTART:19701025T030000
RRULE:FREQ=YEARLY;INTERVAL=1;BYDAY=-1SU;BYMONTH=10
END:STANDARD
END:VTIMEZONE
BEGIN:VEVENT
UID:28a48547070d1e5a53c2c62269daa7c9@gruene-bergedorf.de
URL;VALUE=URI:https://gruene-bergedorf.de/index.php/termine/sitzung-des-f
 achausschusses-fuer-umwelt-und-klimaschutz-3/
LOCATION:Großer Sitzungssaal, 1.Stock, Wentorfer Straße 38, 21029 Hambu
 rg
SUMMARY:Sitzung des Fachausschusses für Umwelt und Klimaschutz
DESCRIPTION;ALTREP="data:text/html,%3Cp%3EExportiert%20aus%20ALLRIS%20am%
 2022.04.2026%3Cbr%20%2F%3E%0A%3Cbr%20%2F%3E%0A%3Cbr%20%2F%3E%0ADie%20Sitz
 ung%20in%20ALLRIS%20net%3A%3Cbr%20%2F%3E%0Ahttp%3A%2F%2Fsitzungsdienst-be
 rgedorf.hamburg.de%2Fbi%2Fto010.asp%3FSILFDNR%3D1003303%3C%2Fp%3E":Export
 iert aus ALLRIS am 22.04.2026\n\nDie Sitzung in ALLRIS net:\n\nhttp://sit
 zungsdienst-bergedorf.hamburg.de/bi/to010.asp?SILFDNR=1003303
CLASS:PUBLIC
DTSTART;TZID=Europe/Berlin:20260422T180000
DTEND;TZID=Europe/Berlin:20260422T180000
DTSTAMP:20260421T223154
END:VEVENT
END:VCALENDAR