BEGIN:VCALENDAR
VERSION:2.0
PRODID:gruene-bergedorf.de
METHOD:PUBLISH
BEGIN:VTIMEZONE
TZID:Europe/Berlin
X-LIC-LOCATION:Europe/Berlin
BEGIN:DAYLIGHT
TZOFFSETFROM:+0100
TZOFFSETTO:+0200
TZNAME:CEST
DTSTART:19700329T020000
RRULE:FREQ=YEARLY;INTERVAL=1;BYDAY=-1SU;BYMONTH=3
END:DAYLIGHT
BEGIN:STANDARD
TZOFFSETFROM:+0200
TZOFFSETTO:+0100
TZNAME:CET
DTSTART:19701025T030000
RRULE:FREQ=YEARLY;INTERVAL=1;BYDAY=-1SU;BYMONTH=10
END:STANDARD
END:VTIMEZONE
BEGIN:VEVENT
UID:b790468b70bb90ad9b3f8f548c10f12e@gruene-bergedorf.de
URL;VALUE=URI:https://gruene-bergedorf.de/index.php/termine/buergerschaft
 swahl/
LOCATION:
SUMMARY:Bürgerschaftswahl 2025
DESCRIPTION;ALTREP="data:text/html,%0A%3Cp%3EDie%20diesj%C3%A4hrige%20B%C
 3%BCrgerschaftswahl%20in%20Hamburg%20findet%20am%26nbsp%3B%3Cstrong%3E2.%
 20M%C3%A4rz%202025%3C%2Fstrong%3E%26nbsp%3Bstatt.%3C%2Fp%3E%0A%0A%0A%0A%3
 Cp%3E%3C%2Fp%3E%0A%0A%0A%0A%3Cp%3EWeitere%20Informationen%20findet%20ihr%
 20unter%20%3Ca%20href%3D%22https%3A%2F%2Fwww.hamburg.de%2Fpolitik-und-ver
 waltung%2Fbehoerden%2Fbehoerde-fuer-inneres-und-sport%2Fthemen%2Fwahlen%2
 Fbuergerschaftswahl%22%3Ehttps%3A%2F%2Fwww.hamburg.de%2Fpolitik-und-verwa
 ltung%2Fbehoerden%2Fbehoerde-fuer-inneres-und-sport%2Fthemen%2Fwahlen%2Fb
 uergerschaftswahl%3C%2Fa%3E%3C%2Fp%3E%0A%0A%0A%0A%3Cdiv%20style%3D%22heig
 ht%3A100px%22%20aria-hidden%3D%22true%22%20class%3D%22wp-block-spacer%22%
 3E%3C%2Fdiv%3E%0A%0A%0A%0A%3Cp%3E%3Cstrong%3ESchritt-f%C3%BCr-Schritt-Anl
 eitung%C2%A0%3C%2Fstrong%3Ef%C3%BCr%20das%20Ausf%C3%BCllen%20der%20Stimmz
 ettel%3C%2Fp%3E%0A%0A%0A%0A%3Cdiv%20class%3D%22wp-block-file%22%3E%3Ca%20
 id%3D%22wp-block-file--media-c6e38cd2-3979-4018-9c74-b33b5d259843%22%20hr
 ef%3D%22https%3A%2F%2Fgruene-bergedorf.de%2Fwp-content%2Fuploads%2F2025%2
 F01%2Fwk-15-data-2.pdf%22%3EMusterstimmzettel%3C%2Fa%3E%3Ca%20href%3D%22h
 ttps%3A%2F%2Fgruene-bergedorf.de%2Fwp-content%2Fuploads%2F2025%2F01%2Fwk-
 15-data-2.pdf%22%20class%3D%22wp-block-file__button%20wp-element-button%2
 2%20download%20aria-describedby%3D%22wp-block-file--media-c6e38cd2-3979-4
 018-9c74-b33b5d259843%22%3EHerunterladen%3C%2Fa%3E%3C%2Fdiv%3E%0A":Die di
 esjährige Bürgerschaftswahl in Hamburg findet am 2. März 2025 statt.
 \n\nWeitere Informationen findet ihr unter https://www.hamburg.de/politik
 -und-verwaltung/behoerden/behoerde-fuer-inneres-und-sport/themen/wahlen/b
 uergerschaftswahl\n\nSchritt-für-Schritt-Anleitung für das Ausfüllen 
 der Stimmzettel\n\nMusterstimmzettelHerunterladen
CLASS:PUBLIC
DTSTART;TZID=Europe/Berlin:20250302
DTEND;TZID=Europe/Berlin:20250303
DTSTAMP:20260424T040211
END:VEVENT
END:VCALENDAR